BEGIN:VCALENDAR
VERSION:2.0
PRODID:-//YourEventCompany//NONSGML v1.0//EN
BEGIN:VEVENT
UID:123456789@yourevent.com
DTSTAMP:20250327T083000Z
DTSTART:20250327T083000Z
DTEND:20250327T163000Z
SUMMARY:Moorings and Anchors Conference and Workshop 2025
LOCATION:Apex Grassmarket Hotel
END:VEVENT
END:VCALENDAR

