BEGIN:VCALENDAR
VERSION:2.0
PRODID:-//YourEventCompany//NONSGML v1.0//EN
BEGIN:VEVENT
UID:123456789@yourevent.com
DTSTAMP:20270601T083000Z
DTSTART:20270601T083000Z
DTEND:20270601T090000Z
SUMMARY:Market Intelligence Report - Subsea Cable Systems 2024
LOCATION:
END:VEVENT
END:VCALENDAR

