BEGIN:VCALENDAR
VERSION:2.0
PRODID:-//YourEventCompany//NONSGML v1.0//EN
BEGIN:VEVENT
UID:123456789@yourevent.com
DTSTAMP:20270601T083000Z
DTSTART:20270601T083000Z
DTEND:20270601T090000Z
SUMMARY:Market Intelligence Report - Moorings and Anchors 2025
LOCATION:
END:VEVENT
END:VCALENDAR

