BEGIN:VCALENDAR
VERSION:2.0
PRODID:-//YourEventCompany//NONSGML v1.0//EN
BEGIN:VEVENT
UID:123456789@yourevent.com
DTSTAMP:20260512T090000Z
DTSTART:20260512T090000Z
DTEND:20260512T110000Z
SUMMARY:Carbon Capture In Focus: Networking Breakfast
LOCATION:Global Underwater Hub - Newcastle
END:VEVENT
END:VCALENDAR

